BEGIN:VCALENDAR
VERSION:2.0
PRODID:-//arcsouthshore.org//NONSGML kigkonsult.se iCalcreator 2.30.10//
CALSCALE:GREGORIAN
METHOD:PUBLISH
UID:c71df97a-8c64-4abc-9480-dcddc2b26acb
X-WR-CALDESC:Do you want to connect with other parents and caregivers? Join
  us for coffee and breakfast at the Cardinal Cushing Cafe.
X-WR-RELCALID:7f4eb6670431dbc1e902470c47f325f9
X-WR-TIMEZONE:America/New_York
BEGIN:VTIMEZONE
TZID:America/New_York
BEGIN:STANDARD
TZNAME:EST
DTSTART:20251102T020000
TZOFFSETFROM:-0400
TZOFFSETTO:-0500
RDATE:20261101T020000
END:STANDARD
BEGIN:DAYLIGHT
TZNAME:EDT
DTSTART:20260308T020000
TZOFFSETFROM:-0500
TZOFFSETTO:-0400
RDATE:20270314T020000
END:DAYLIGHT
END:VTIMEZONE
BEGIN:VEVENT
UID:49b61cfb-9a3c-4b5b-b156-b094641b0a64
DTSTAMP:20260422T043903Z
DESCRIPTION:Do you want to connect with other parents and caregivers? Join 
 us for coffee and breakfast at the Cardinal Cushing Cafe.
DTSTART;TZID=America/New_York:20260417T093000
DTEND;TZID=America/New_York:20260417T103000
LOCATION:120 Columbia Road\, Hanover\, MA 02339 US
SUMMARY:Caregiver Coffee Out at Cushing Cafe
END:VEVENT
END:VCALENDAR
