BEGIN:VCALENDAR
VERSION:2.0
PRODID:-//arcsouthshore.org//NONSGML kigkonsult.se iCalcreator 2.30.10//
CALSCALE:GREGORIAN
METHOD:PUBLISH
UID:989430c8-386e-46aa-bd6c-d1045f598edd
X-WR-CALDESC:Join us for a Sensory Friendly Movie! The theater ambiance wil
 l be lighter\, the movie volume will be lower\, and the pressure to be sti
 ll and quiet will be off for this fun sensory-friendly experience! We hope
  you can join us at the Cameo Theater.\n\nThis month's featured movie: The
  Super Mario Galaxy Movie. 1 (one) complimentary ticket per family who pre
 -registers. Additional tickets at $7.50 per ticket can be purchased at the
  door.
X-WR-RELCALID:4f29a942848c9d69fe55306f0e4b269d
X-WR-TIMEZONE:America/New_York
BEGIN:VTIMEZONE
TZID:America/New_York
BEGIN:STANDARD
TZNAME:EST
DTSTART:20251102T020000
TZOFFSETFROM:-0400
TZOFFSETTO:-0500
RDATE:20261101T020000
END:STANDARD
BEGIN:DAYLIGHT
TZNAME:EDT
DTSTART:20260308T020000
TZOFFSETFROM:-0500
TZOFFSETTO:-0400
RDATE:20270314T020000
END:DAYLIGHT
END:VTIMEZONE
BEGIN:VEVENT
UID:ad582411-c908-4467-9f4a-7a56252fcd06
DTSTAMP:20260420T215533Z
DESCRIPTION:Join us for a Sensory Friendly Movie! The theater ambiance will
  be lighter\, the movie volume will be lower\, and the pressure to be stil
 l and quiet will be off for this fun sensory-friendly experience! We hope 
 you can join us at the Cameo Theater.\n\nThis month's featured movie: The 
 Super Mario Galaxy Movie. 1 (one) complimentary ticket per family who pre-
 registers. Additional tickets at $7.50 per ticket can be purchased at the 
 door.
DTSTART;TZID=America/New_York:20260420T100000
DTEND;TZID=America/New_York:20260420T123000
LOCATION:14 Columbian Street\, South Weymouth\, MA 02190 US
SUMMARY:Sensory Friendly Movie: The Super Mario Galaxy Movie
END:VEVENT
END:VCALENDAR
