BEGIN:VCALENDAR
VERSION:2.0
PRODID:-//arcsouthshore.org//NONSGML kigkonsult.se iCalcreator 2.30.10//
CALSCALE:GREGORIAN
METHOD:PUBLISH
UID:9c7321d7-a071-478c-924e-0d773f807e42
X-WR-CALDESC:Join us on Friday\, April 3rd\, 2026\, at Derby St Shops for o
 ur 4th Annual Bunny Bash! This event features an egg hunt\, face painting\
 , temporary tattoos\, and photos with the Easter Bunny. This lively spring
 time event brings our community together for sunshine\, smiles\, and share
 d holiday fun. We cannot wait to see you there!\n\nWe're offering two sess
 ions of this event. Session 1 is at 10am\, and session 2 is at 11am (pleas
 e note that the egg hunts begin promptly at 10am & 11am). It will feature 
 an egg hunt\, face painting\, and photos with the Easter Bunny. This event
  is BYOB (Bring Your Own Basket).
X-WR-RELCALID:8669cfad675c1ba495285ad43d6be585
X-WR-TIMEZONE:America/New_York
BEGIN:VTIMEZONE
TZID:America/New_York
BEGIN:STANDARD
TZNAME:EST
DTSTART:20251102T020000
TZOFFSETFROM:-0400
TZOFFSETTO:-0500
RDATE:20261101T020000
END:STANDARD
BEGIN:DAYLIGHT
TZNAME:EDT
DTSTART:20260308T020000
TZOFFSETFROM:-0500
TZOFFSETTO:-0400
RDATE:20270314T020000
END:DAYLIGHT
END:VTIMEZONE
BEGIN:VEVENT
UID:030e1bca-7bc3-4cfe-8ea3-e941781c78c3
DTSTAMP:20260422T064324Z
DESCRIPTION:Join us on Friday\, April 3rd\, 2026\, at Derby St Shops for ou
 r 4th Annual Bunny Bash! This event features an egg hunt\, face painting\,
  temporary tattoos\, and photos with the Easter Bunny. This lively springt
 ime event brings our community together for sunshine\, smiles\, and shared
  holiday fun. We cannot wait to see you there!\n\nWe're offering two sessi
 ons of this event. Session 1 is at 10am\, and session 2 is at 11am (please
  note that the egg hunts begin promptly at 10am & 11am). It will feature a
 n egg hunt\, face painting\, and photos with the Easter Bunny. This event 
 is BYOB (Bring Your Own Basket).
DTSTART;TZID=America/New_York:20260403T100000
DTEND;TZID=America/New_York:20260403T120000
LOCATION:92-98 Derby Street\, Hingham\, MA 02043 US
SUMMARY:4th Annual Bunny Bash
END:VEVENT
END:VCALENDAR
