BEGIN:VCALENDAR
VERSION:2.0
PRODID:-//arcsouthshore.org//NONSGML kigkonsult.se iCalcreator 2.30.10//
CALSCALE:GREGORIAN
METHOD:PUBLISH
UID:173512f4-f5ff-452a-92d0-1b7edd2956f3
X-WR-CALDESC:Please join The Arc of Massachusetts (The Arc) and the Massach
 usetts Developmental Disabilities Council (MDDC) at the Massachusetts Stat
 e House on Tuesday\, March 10\, 2026 for the 48th Annual Legislative Recep
 tion. This year's theme is 'Protecting Our Lives: Now More than Ever.'\n\n
 At a pivotal moment for disability policy and services\, the 48th Annual L
 egislative Reception provides a vital space to gather\, advocate\, and be 
 heard. Join The Arc and MDDC at the State House to connect with legislator
 s and fellow advocates\, hear from leaders within the disability community
 \, and uplift the voices of individuals with developmental disabilities.
X-WR-RELCALID:ba75aa426679396ffd004030d62dfcf1
X-WR-TIMEZONE:America/New_York
BEGIN:VTIMEZONE
TZID:America/New_York
BEGIN:STANDARD
TZNAME:EST
DTSTART:20251102T020000
TZOFFSETFROM:-0400
TZOFFSETTO:-0500
RDATE:20261101T020000
END:STANDARD
BEGIN:DAYLIGHT
TZNAME:EDT
DTSTART:20260308T020000
TZOFFSETFROM:-0500
TZOFFSETTO:-0400
RDATE:20270314T020000
END:DAYLIGHT
END:VTIMEZONE
BEGIN:VEVENT
UID:5e8a571c-6aba-4e86-b371-58d3cf0bff96
DTSTAMP:20260425T120004Z
DESCRIPTION:Please join The Arc of Massachusetts (The Arc) and the Massachu
 setts Developmental Disabilities Council (MDDC) at the Massachusetts State
  House on Tuesday\, March 10\, 2026 for the 48th Annual Legislative Recept
 ion. This year's theme is 'Protecting Our Lives: Now More than Ever.'\n\nA
 t a pivotal moment for disability policy and services\, the 48th Annual Le
 gislative Reception provides a vital space to gather\, advocate\, and be h
 eard. Join The Arc and MDDC at the State House to connect with legislators
  and fellow advocates\, hear from leaders within the disability community\
 , and uplift the voices of individuals with developmental disabilities.
DTSTART;TZID=America/New_York:20260310T100000
DTEND;TZID=America/New_York:20260310T113000
LOCATION:24 Beacon St\, Boston\, MA 02108 US
SUMMARY:48th Annual Legislative Reception
END:VEVENT
END:VCALENDAR
