BEGIN:VCALENDAR
VERSION:2.0
PRODID:-//arcsouthshore.org//NONSGML kigkonsult.se iCalcreator 2.30.10//
CALSCALE:GREGORIAN
METHOD:PUBLISH
UID:162265ef-7051-47ed-b500-ca7b5c336fdd
X-WR-CALDESC:Do you want to connect with other parents and caregivers? Join
  us for coffee and breakfast at the Cardinal Cushing Cafe.
X-WR-RELCALID:7717b61a8f142ba5803bda8f2f2623c9
X-WR-TIMEZONE:America/New_York
BEGIN:VTIMEZONE
TZID:America/New_York
BEGIN:STANDARD
TZNAME:EST
DTSTART:20251102T020000
TZOFFSETFROM:-0400
TZOFFSETTO:-0500
RDATE:20261101T020000
END:STANDARD
BEGIN:DAYLIGHT
TZNAME:EDT
DTSTART:20250309T020000
TZOFFSETFROM:-0500
TZOFFSETTO:-0400
RDATE:20260308T020000
RDATE:20270314T020000
END:DAYLIGHT
END:VTIMEZONE
BEGIN:VEVENT
UID:6561a8d0-68d5-4e53-bfed-181624877564
DTSTAMP:20260425T114707Z
DESCRIPTION:Do you want to connect with other parents and caregivers? Join 
 us for coffee and breakfast at the Cardinal Cushing Cafe.
DTSTART;TZID=America/New_York:20260306T093000
DTEND;TZID=America/New_York:20260306T113000
LOCATION:120 Columbia Road\, Hanover\, MA 02339 US
SUMMARY:Caregiver Coffee Out at Cushing Cafe
END:VEVENT
END:VCALENDAR
