BEGIN:VCALENDAR
VERSION:2.0
PRODID:-//arcsouthshore.org//NONSGML kigkonsult.se iCalcreator 2.30.10//
CALSCALE:GREGORIAN
METHOD:PUBLISH
UID:bc30a739-1e84-4b25-8ae0-112f3f6b028f
X-WR-CALDESC:Do you want to connect with other parents and caregivers? Join
  us for coffee and breakfast at the Cardinal Cushing Cafe.
X-WR-RELCALID:a621eb34fca997c21a607b0981b69ab0
X-WR-TIMEZONE:America/New_York
BEGIN:VTIMEZONE
TZID:America/New_York
BEGIN:STANDARD
TZNAME:EST
DTSTART:20251102T020000
TZOFFSETFROM:-0400
TZOFFSETTO:-0500
RDATE:20261101T020000
END:STANDARD
BEGIN:DAYLIGHT
TZNAME:EDT
DTSTART:20250309T020000
TZOFFSETFROM:-0500
TZOFFSETTO:-0400
RDATE:20260308T020000
RDATE:20270314T020000
END:DAYLIGHT
END:VTIMEZONE
BEGIN:VEVENT
UID:e4dd79a2-3674-4161-9b5c-8c9214efccff
DTSTAMP:20260425T132926Z
DESCRIPTION:Do you want to connect with other parents and caregivers? Join 
 us for coffee and breakfast at the Cardinal Cushing Cafe.
DTSTART;TZID=America/New_York:20260213T093000
DTEND;TZID=America/New_York:20260213T113000
LOCATION:120 Columbia Road\, Hanover\, MA 02339 US
SUMMARY:Caregiver Coffee Out at Cushing Cafe
END:VEVENT
END:VCALENDAR
