BEGIN:VCALENDAR
VERSION:2.0
PRODID:-//arcsouthshore.org//NONSGML kigkonsult.se iCalcreator 2.30.10//
CALSCALE:GREGORIAN
METHOD:PUBLISH
UID:5db0bd15-decb-4fe7-b5ef-4fbbc2f0eab3
X-WR-CALDESC:Open to the individuals/families served by our Autism Resource
  Center. The theater ambiance will be lighter\, the movie volume will be l
 ower\, and the pressure to be still and quiet will be off for this fun sen
 sory-friendly experience! We hope you can join us at the Cameo Theater.\n
 \nThis month's featured movie: The Spongebob Movie: The Search for Squarep
 ants. 1 (one) complimentary ticket per family who pre-registers. Additiona
 l tickets at $7 per ticket can be purchased at the door.
X-WR-RELCALID:8a38110e1d6fd790bc5a4305b7cf4c01
X-WR-TIMEZONE:America/New_York
BEGIN:VTIMEZONE
TZID:America/New_York
BEGIN:STANDARD
TZNAME:EST
DTSTART:20251102T020000
TZOFFSETFROM:-0400
TZOFFSETTO:-0500
RDATE:20261101T020000
END:STANDARD
BEGIN:DAYLIGHT
TZNAME:EDT
DTSTART:20250309T020000
TZOFFSETFROM:-0500
TZOFFSETTO:-0400
RDATE:20260308T020000
RDATE:20270314T020000
END:DAYLIGHT
END:VTIMEZONE
BEGIN:VEVENT
UID:42e9b5d9-cf53-45c9-9645-4923db32b4ac
DTSTAMP:20260425T164436Z
DESCRIPTION:Open to the individuals/families served by our Autism Resource 
 Center. The theater ambiance will be lighter\, the movie volume will be lo
 wer\, and the pressure to be still and quiet will be off for this fun sens
 ory-friendly experience! We hope you can join us at the Cameo Theater.\n\n
 This month's featured movie: The Spongebob Movie: The Search for Squarepan
 ts. 1 (one) complimentary ticket per family who pre-registers. Additional 
 tickets at $7 per ticket can be purchased at the door.
DTSTART;TZID=America/New_York:20251228T100000
DTEND;TZID=America/New_York:20251228T123000
LOCATION:14 Columbian Street\, South Weymouth\, MA 02190 US
SUMMARY:Sensory Friendly Movie: The Spongebob Movie
END:VEVENT
END:VCALENDAR
