BEGIN:VCALENDAR
VERSION:2.0
PRODID:-//arcsouthshore.org//NONSGML kigkonsult.se iCalcreator 2.30.10//
CALSCALE:GREGORIAN
METHOD:PUBLISH
UID:3450ae3a-0751-48b9-b980-adc8ec9345e4
X-WR-CALDESC:It’s our turn to care for you.  Join us at our annual Holiday 
 Caregiver Retreat for a peaceful and supportive morning at Scituate Salt C
 ave followed by a relaxing brunch at Cheever Tavern in Norwell to share ex
 periences and build lasting connections. Be sure to reserve your spot at o
 ne or both of the events!
X-WR-RELCALID:bc19fd2c28861a38890c90e49f89ae2e
X-WR-TIMEZONE:America/New_York
BEGIN:VTIMEZONE
TZID:America/New_York
BEGIN:STANDARD
TZNAME:EST
DTSTART:20251102T020000
TZOFFSETFROM:-0400
TZOFFSETTO:-0500
RDATE:20261101T020000
END:STANDARD
BEGIN:DAYLIGHT
TZNAME:EDT
DTSTART:20250309T020000
TZOFFSETFROM:-0500
TZOFFSETTO:-0400
RDATE:20260308T020000
RDATE:20270314T020000
END:DAYLIGHT
END:VTIMEZONE
BEGIN:VEVENT
UID:473cd900-9515-45b6-9c76-1a360c6ce854
DTSTAMP:20260425T164559Z
DESCRIPTION:It’s our turn to care for you.  Join us at our annual Holiday C
 aregiver Retreat for a peaceful and supportive morning at Scituate Salt Ca
 ve followed by a relaxing brunch at Cheever Tavern in Norwell to share exp
 eriences and build lasting connections. Be sure to reserve your spot at on
 e or both of the events!
DTSTART;TZID=America/New_York:20251207T100000
DTEND;TZID=America/New_York:20251207T110000
LOCATION:164 Front St\, Scituate\, MA 02066 US
SUMMARY:Holiday Caregiver Retreat - Scituate Salt Cave
END:VEVENT
END:VCALENDAR
