BEGIN:VCALENDAR
VERSION:2.0
PRODID:-//arcsouthshore.org//NONSGML kigkonsult.se iCalcreator 2.30.10//
CALSCALE:GREGORIAN
METHOD:PUBLISH
UID:b236c72d-026d-40ec-bea3-da223649cab5
X-WR-CALDESC:It’s our turn to care for you.  Join us at our annual Holiday 
 Caregiver Retreat for a peaceful and supportive morning at Scituate Salt C
 ave followed by a relaxing brunch at Cheever Tavern in Norwell to share ex
 periences and build lasting connections. Be sure to reserve your spot at o
 ne or both of the events!
X-WR-RELCALID:9ad60c6067b11b8ae620d01596ca6829
X-WR-TIMEZONE:America/New_York
BEGIN:VTIMEZONE
TZID:America/New_York
BEGIN:STANDARD
TZNAME:EST
DTSTART:20251102T020000
TZOFFSETFROM:-0400
TZOFFSETTO:-0500
RDATE:20261101T020000
END:STANDARD
BEGIN:DAYLIGHT
TZNAME:EDT
DTSTART:20250309T020000
TZOFFSETFROM:-0500
TZOFFSETTO:-0400
RDATE:20260308T020000
RDATE:20270314T020000
END:DAYLIGHT
END:VTIMEZONE
BEGIN:VEVENT
UID:7d05fac5-9cf9-4bdd-908b-e697dd9b6761
DTSTAMP:20260425T165310Z
DESCRIPTION:It’s our turn to care for you.  Join us at our annual Holiday C
 aregiver Retreat for a peaceful and supportive morning at Scituate Salt Ca
 ve followed by a relaxing brunch at Cheever Tavern in Norwell to share exp
 eriences and build lasting connections. Be sure to reserve your spot at on
 e or both of the events!
DTSTART;TZID=America/New_York:20251207T113000
DTEND;TZID=America/New_York:20251207T143000
LOCATION:33 West St\, Norwell\, MA 02061 US
SUMMARY:Holiday Caregiver Retreat - Cheever Tavern
END:VEVENT
END:VCALENDAR
