BEGIN:VCALENDAR
VERSION:2.0
PRODID:-//arcsouthshore.org//NONSGML kigkonsult.se iCalcreator 2.30.10//
CALSCALE:GREGORIAN
METHOD:PUBLISH
UID:77d5e830-e411-4747-bf18-4de055afb248
X-WR-CALDESC:Join us for sleigh rides through the park\, live music\, pictu
 res with Santa\, holiday themed arts & crafts\, refreshments\, and so much
  more. Proceeds from this event directly benefit individuals and families 
 served by The Arc of the South Shore. Together\, we can make the holidays 
 a little brighter for families who have loved ones with disabilities.\n\nP
 lease note\, registration is a two-step process. Once you have purchased y
 our tickets\, you will receive an email with a link to register for your s
 leigh-ride time slot. Please register for the sleigh-ride time slot of you
 r choosing\, this is not an additional payment. Thank you.
X-WR-RELCALID:a20aad7e7bebc132a6a1cf7ef2cb0d09
X-WR-TIMEZONE:America/New_York
BEGIN:VTIMEZONE
TZID:America/New_York
BEGIN:STANDARD
TZNAME:EST
DTSTART:20251102T020000
TZOFFSETFROM:-0400
TZOFFSETTO:-0500
RDATE:20261101T020000
END:STANDARD
BEGIN:DAYLIGHT
TZNAME:EDT
DTSTART:20250309T020000
TZOFFSETFROM:-0500
TZOFFSETTO:-0400
RDATE:20260308T020000
RDATE:20270314T020000
END:DAYLIGHT
END:VTIMEZONE
BEGIN:VEVENT
UID:89203622-1b8f-443c-9788-1ac3923fa1d4
DTSTAMP:20260425T164441Z
DESCRIPTION:Join us for sleigh rides through the park\, live music\, pictur
 es with Santa\, holiday themed arts & crafts\, refreshments\, and so much 
 more. Proceeds from this event directly benefit individuals and families s
 erved by The Arc of the South Shore. Together\, we can make the holidays a
  little brighter for families who have loved ones with disabilities.\n\nPl
 ease note\, registration is a two-step process. Once you have purchased yo
 ur tickets\, you will receive an email with a link to register for your sl
 eigh-ride time slot. Please register for the sleigh-ride time slot of your
  choosing\, this is not an additional payment. Thank you.
DTSTART;TZID=America/New_York:20251207T110000
DTEND;TZID=America/New_York:20251207T150000
LOCATION:371 River St\, Weymouth\, MA 02191 US
SUMMARY:5th Annual Holiday Festival
END:VEVENT
END:VCALENDAR
