BEGIN:VCALENDAR
VERSION:2.0
PRODID:-//arcsouthshore.org//NONSGML kigkonsult.se iCalcreator 2.30.10//
CALSCALE:GREGORIAN
METHOD:PUBLISH
UID:673cef3a-6bae-4a88-99b4-19b5d1a3d2d2
X-WR-CALDESC:Do you want to connect with other parents and caregivers? Join
  us for coffee and breakfast at the Cardinal Cushing Cafe.\n\nPlease RSVP 
 to lsilva@arcsouthshore.org
X-WR-RELCALID:eedd919dd78d38132591d7344edb70fa
X-WR-TIMEZONE:America/New_York
BEGIN:VTIMEZONE
TZID:America/New_York
BEGIN:STANDARD
TZNAME:EST
DTSTART:20251102T020000
TZOFFSETFROM:-0400
TZOFFSETTO:-0500
RDATE:20261101T020000
END:STANDARD
BEGIN:DAYLIGHT
TZNAME:EDT
DTSTART:20250309T020000
TZOFFSETFROM:-0500
TZOFFSETTO:-0400
RDATE:20260308T020000
RDATE:20270314T020000
END:DAYLIGHT
END:VTIMEZONE
BEGIN:VEVENT
UID:26abd76d-a7b4-4aed-9e23-3abbc40f4070
DTSTAMP:20260425T164604Z
DESCRIPTION:Do you want to connect with other parents and caregivers? Join 
 us for coffee and breakfast at the Cardinal Cushing Cafe.\n\nPlease RSVP t
 o lsilva@arcsouthshore.org
DTSTART;TZID=America/New_York:20251205T093000
DTEND;TZID=America/New_York:20251205T113000
LOCATION:120 Columbia Road\, Hanover\, MA 02339 US
SUMMARY:Caregiver Coffee Out at Cushing Cafe
END:VEVENT
END:VCALENDAR
