BEGIN:VCALENDAR
VERSION:2.0
PRODID:-//arcsouthshore.org//NONSGML kigkonsult.se iCalcreator 2.30.10//
CALSCALE:GREGORIAN
METHOD:PUBLISH
UID:f84d54b8-1ab3-4e6f-bab7-7973bd9f8530
X-WR-CALDESC:PLAN of MA & RI is happy to announce that they are offering a 
 series of webinars.\n\nLearning objectives: understand the purpose of a Sp
 ecial Needs Trust\, types of Special Needs Trusts\, trustee responsibiliti
 es\, trustee considerations\, establishing a trust with PLAN\, and ABLE.
X-WR-RELCALID:61071a360c03510eec58c008e9dabb52
X-WR-TIMEZONE:America/New_York
BEGIN:VTIMEZONE
TZID:America/New_York
BEGIN:STANDARD
TZNAME:EST
DTSTART:20251102T020000
TZOFFSETFROM:-0400
TZOFFSETTO:-0500
RDATE:20261101T020000
END:STANDARD
BEGIN:DAYLIGHT
TZNAME:EDT
DTSTART:20250309T020000
TZOFFSETFROM:-0500
TZOFFSETTO:-0400
RDATE:20260308T020000
RDATE:20270314T020000
END:DAYLIGHT
END:VTIMEZONE
BEGIN:VEVENT
UID:9f40ef4f-87c9-47b4-86fd-ee261de4279f
DTSTAMP:20260425T183112Z
DESCRIPTION:PLAN of MA & RI is happy to announce that they are offering a s
 eries of webinars.\n\nLearning objectives: understand the purpose of a Spe
 cial Needs Trust\, types of Special Needs Trusts\, trustee responsibilitie
 s\, trustee considerations\, establishing a trust with PLAN\, and ABLE.
DTSTART;TZID=America/New_York:20251106T173000
DTEND;TZID=America/New_York:20251106T183000
LOCATION:https://zoom.us/webinar/register/WN_KPwzJy3NTbmI-tgfozKblQ?_x_zm_r
 taid=rABt1ckLSP-5wu9f3h9CxA.1746029524356.635fdc90ec40140de0cdc6b5d5551e13
 &_x_zm_rhtaid=676#/registration
SUMMARY:Special Needs Trusts: Planning Options for You and Your Family
END:VEVENT
END:VCALENDAR
