BEGIN:VCALENDAR
VERSION:2.0
PRODID:-//arcsouthshore.org//NONSGML kigkonsult.se iCalcreator 2.30.10//
CALSCALE:GREGORIAN
METHOD:PUBLISH
UID:9aeff860-53f9-4821-a4d1-9a3fa41ae1da
X-WR-CALDESC:Join us on Friday\, October 17th from 7pm- 9pm for a Halloween
  Dance party! This dance will be held in-person at The First Parish Church
  of Norwell.\n\nOur dances are for individuals over the age of 18 and cele
 brate various holiday and times of the year. The goal of these dances is t
 o provide social and recreational opportunities for adults in a safe and s
 upported environment. Attendees enjoy an evening of dancing to popular mus
 ic provided by a DJ along with refreshments. Dances are a great opportunit
 y for self-expression\, meeting new people\, and building relationships. 
 \n\nIndividuals of all abilities are welcome at this community event. If t
 he attendee needs additional support in a large group setting\, they are w
 elcome to bring a support staff at no cost. \n\nPlease note\, all attendee
 s are required to have a signed release form on file in order to attend. I
 f you're purchasing tickets for multiple attendees\, please download and f
 ill out the form for all individuals. Forms can be returned to Diane Wilco
 x.
X-WR-RELCALID:962533e1be7f6c1ec795f346e2a522bc
X-WR-TIMEZONE:America/New_York
BEGIN:VTIMEZONE
TZID:America/New_York
BEGIN:STANDARD
TZNAME:EST
DTSTART:20241103T020000
TZOFFSETFROM:-0400
TZOFFSETTO:-0500
RDATE:20251102T020000
RDATE:20261101T020000
END:STANDARD
BEGIN:DAYLIGHT
TZNAME:EDT
DTSTART:20250309T020000
TZOFFSETFROM:-0500
TZOFFSETTO:-0400
RDATE:20260308T020000
RDATE:20270314T020000
END:DAYLIGHT
END:VTIMEZONE
BEGIN:VEVENT
UID:0104cc1c-91af-4605-bac2-1da16c69f8f1
DTSTAMP:20260425T201319Z
DESCRIPTION:Join us on Friday\, October 17th from 7pm- 9pm for a Halloween 
 Dance party! This dance will be held in-person at The First Parish Church 
 of Norwell.\n\nOur dances are for individuals over the age of 18 and celeb
 rate various holiday and times of the year. The goal of these dances is to
  provide social and recreational opportunities for adults in a safe and su
 pported environment. Attendees enjoy an evening of dancing to popular musi
 c provided by a DJ along with refreshments. Dances are a great opportunity
  for self-expression\, meeting new people\, and building relationships. \n
 \nIndividuals of all abilities are welcome at this community event. If the
  attendee needs additional support in a large group setting\, they are wel
 come to bring a support staff at no cost. \n\nPlease note\, all attendees 
 are required to have a signed release form on file in order to attend. If 
 you're purchasing tickets for multiple attendees\, please download and fil
 l out the form for all individuals. Forms can be returned to Diane Wilcox.
DTSTART;TZID=America/New_York:20251017T190000
DTEND;TZID=America/New_York:20251017T210000
LOCATION:24 River Street\, Norwell\, MA 02061 US
SUMMARY:Halloween Dance Party
END:VEVENT
END:VCALENDAR
