BEGIN:VCALENDAR
VERSION:2.0
PRODID:-//arcsouthshore.org//NONSGML kigkonsult.se iCalcreator 2.30.10//
CALSCALE:GREGORIAN
METHOD:PUBLISH
UID:98dfcf3e-f95d-400b-b424-85d28acedbe6
X-WR-CALDESC:Join us for a Resource Fair designed for families with teens a
 nd young adults aged 15-26! Discover valuable tools\, services\, and suppo
 rt to help navigate the transition into adulthood with confidence.\nCheck 
 out the full list of vendors:\n- Arc of MA\n- Assistive Tech\n- Comfort Do
 gs\n- Commonwealth Financial Group\, Child ID Program\n- Department of Dev
 elopmental Services (DDS)\n- Drew's Trips\n- Evoke Change Center\n- Financ
 ial Guide \n- House of Possibilities \n- May Center\n- Norfolk County Sher
 riff's Dept.\n- Planned Lifetime Assistive Network (PLAN) of MA and RI\n- 
 Reimagine Recreation\n- Rewarding Work\n- South Shore Supports\n- Special 
 Olympics\n- Supported Decision Making \n- Work Inc.\, Deaf Outreach
X-WR-RELCALID:fcfefd6ba9e65b63551ee84fae9769ff
X-WR-TIMEZONE:America/New_York
BEGIN:VTIMEZONE
TZID:America/New_York
BEGIN:STANDARD
TZNAME:EST
DTSTART:20241103T020000
TZOFFSETFROM:-0400
TZOFFSETTO:-0500
RDATE:20251102T020000
RDATE:20261101T020000
END:STANDARD
BEGIN:DAYLIGHT
TZNAME:EDT
DTSTART:20250309T020000
TZOFFSETFROM:-0500
TZOFFSETTO:-0400
RDATE:20260308T020000
RDATE:20270314T020000
END:DAYLIGHT
END:VTIMEZONE
BEGIN:VEVENT
UID:6a41f020-a0be-41aa-854f-9955c6b9feb8
DTSTAMP:20260425T220122Z
DESCRIPTION:Join us for a Resource Fair designed for families with teens an
 d young adults aged 15-26! Discover valuable tools\, services\, and suppor
 t to help navigate the transition into adulthood with confidence.\nCheck o
 ut the full list of vendors:\n- Arc of MA\n- Assistive Tech\n- Comfort Dog
 s\n- Commonwealth Financial Group\, Child ID Program\n- Department of Deve
 lopmental Services (DDS)\n- Drew's Trips\n- Evoke Change Center\n- Financi
 al Guide \n- House of Possibilities \n- May Center\n- Norfolk County Sherr
 iff's Dept.\n- Planned Lifetime Assistive Network (PLAN) of MA and RI\n- R
 eimagine Recreation\n- Rewarding Work\n- South Shore Supports\n- Special O
 lympics\n- Supported Decision Making \n- Work Inc.\, Deaf Outreach
DTSTART;TZID=America/New_York:20250927T110000
DTEND;TZID=America/New_York:20250927T140000
LOCATION:371 River St\, Weymouth\, MA 02191 US
SUMMARY:Resource Fair
END:VEVENT
END:VCALENDAR
