BEGIN:VCALENDAR
VERSION:2.0
PRODID:-//arcsouthshore.org//NONSGML kigkonsult.se iCalcreator 2.30.10//
CALSCALE:GREGORIAN
METHOD:PUBLISH
UID:9b976b33-5b14-4ff2-937b-9f5658b18708
X-WR-CALDESC:Join us for a magical story time & yoga class that brings book
 s to life. Our program is inclusive and sensory-friendly. All are welcome!
  This special edition will be held at Legacy Place outside on the green.\n
 \nPlease only register for one ticket per family. If registration is full\
 , please contact jbirmingham@arcsouthshore.org to be added to the waitlist
 .
X-WR-RELCALID:c314be794a4f45ca789f9f07d11951ab
X-WR-TIMEZONE:America/New_York
BEGIN:VTIMEZONE
TZID:America/New_York
BEGIN:STANDARD
TZNAME:EST
DTSTART:20241103T020000
TZOFFSETFROM:-0400
TZOFFSETTO:-0500
RDATE:20251102T020000
RDATE:20261101T020000
END:STANDARD
BEGIN:DAYLIGHT
TZNAME:EDT
DTSTART:20250309T020000
TZOFFSETFROM:-0500
TZOFFSETTO:-0400
RDATE:20260308T020000
END:DAYLIGHT
END:VTIMEZONE
BEGIN:VEVENT
UID:2b1bf68c-7e95-4ed8-b936-9884f70bfc63
DTSTAMP:20260426T011025Z
DESCRIPTION:Join us for a magical story time & yoga class that brings books
  to life. Our program is inclusive and sensory-friendly. All are welcome! 
 This special edition will be held at Legacy Place outside on the green.\n
 \nPlease only register for one ticket per family. If registration is full\
 , please contact jbirmingham@arcsouthshore.org to be added to the waitlist
 .
DTSTART;TZID=America/New_York:20250709T103000
DTEND;TZID=America/New_York:20250709T113000
LOCATION:680 Legacy Place\, Dedham\, MA 02026 US
SUMMARY:Sensational Story Time Yoga at Legacy Place
END:VEVENT
END:VCALENDAR
