BEGIN:VCALENDAR
VERSION:2.0
PRODID:-//arcsouthshore.org//NONSGML kigkonsult.se iCalcreator 2.30.10//
CALSCALE:GREGORIAN
METHOD:PUBLISH
UID:d545145a-d1b4-45fd-979c-2deda1873b7c
X-WR-CALDESC:Please join us for drop-in group for those enrolled in the Fir
 st Early Intervention program. This group is for children under 26 months.
X-WR-RELCALID:700e635d915af564af7f177c3076ae38
X-WR-TIMEZONE:America/New_York
BEGIN:VTIMEZONE
TZID:America/New_York
BEGIN:STANDARD
TZNAME:EST
DTSTART:20241103T020000
TZOFFSETFROM:-0400
TZOFFSETTO:-0500
RDATE:20251102T020000
RDATE:20261101T020000
END:STANDARD
BEGIN:DAYLIGHT
TZNAME:EDT
DTSTART:20250309T020000
TZOFFSETFROM:-0500
TZOFFSETTO:-0400
RDATE:20260308T020000
END:DAYLIGHT
END:VTIMEZONE
BEGIN:VEVENT
UID:d48681a2-5672-41f1-97cf-d88386dc784c
DTSTAMP:20260426T031135Z
DESCRIPTION:Please join us for drop-in group for those enrolled in the Firs
 t Early Intervention program. This group is for children under 26 months.
DTSTART;TZID=America/New_York:20250623T133000
DTEND;TZID=America/New_York:20250623T143000
LOCATION:574 Main St\, Weymouth\, MA 02190 US
SUMMARY:Early Intervention Drop-In Group
END:VEVENT
END:VCALENDAR
