BEGIN:VCALENDAR
VERSION:2.0
PRODID:-//arcsouthshore.org//NONSGML kigkonsult.se iCalcreator 2.30.10//
CALSCALE:GREGORIAN
METHOD:PUBLISH
UID:acb5edcf-700b-4efc-98f3-ab8c22a9314e
X-WR-CALDESC:Please join us for drop-in group for those enrolled in the Fir
 st Early Intervention program. This group is for children under 26 months.
X-WR-RELCALID:a4f69dbe1a6964a9b11e2706e3f3461b
X-WR-TIMEZONE:America/New_York
BEGIN:VTIMEZONE
TZID:America/New_York
BEGIN:STANDARD
TZNAME:EST
DTSTART:20241103T020000
TZOFFSETFROM:-0400
TZOFFSETTO:-0500
RDATE:20251102T020000
RDATE:20261101T020000
END:STANDARD
BEGIN:DAYLIGHT
TZNAME:EDT
DTSTART:20250309T020000
TZOFFSETFROM:-0500
TZOFFSETTO:-0400
RDATE:20260308T020000
END:DAYLIGHT
END:VTIMEZONE
BEGIN:VEVENT
UID:86dd0fd0-8768-43b2-a510-a594382d7da0
DTSTAMP:20260426T031100Z
DESCRIPTION:Please join us for drop-in group for those enrolled in the Firs
 t Early Intervention program. This group is for children under 26 months.
DTSTART;TZID=America/New_York:20250602T133000
DTEND;TZID=America/New_York:20250602T143000
LOCATION:574 Main St\, Weymouth\, MA 02190 US
SUMMARY:Early Intervention Drop-In Group
END:VEVENT
END:VCALENDAR
