BEGIN:VCALENDAR
VERSION:2.0
PRODID:-//arcsouthshore.org//NONSGML kigkonsult.se iCalcreator 2.30.10//
CALSCALE:GREGORIAN
METHOD:PUBLISH
UID:cafdf00f-d63a-4cfe-b0ab-5b793f4a8ba3
X-WR-CALDESC:On 12/4 we held our 2nd Annual Holiday Festival Featuring Wint
 er Sleigh Rides at Webb State Park. This family event was held from 11:00a
 m to 3:00pm at 371 River Street in North Weymouth. In addition to sleigh r
 ides through the park\, it featured live music\, pictures with Santa\, hol
 iday themed arts & crafts\, refreshments\, and so much more. \n\nTickets a
 re no longer on sale. We hope to see you next year!
X-WR-RELCALID:cdad66e4242848515e04dfbf664d0531
X-WR-TIMEZONE:America/New_York
BEGIN:VTIMEZONE
TZID:America/New_York
BEGIN:STANDARD
TZNAME:EST
DTSTART:20221106T020000
TZOFFSETFROM:-0400
TZOFFSETTO:-0500
RDATE:20231105T020000
END:STANDARD
BEGIN:DAYLIGHT
TZNAME:EDT
DTSTART:20220313T020000
TZOFFSETFROM:-0500
TZOFFSETTO:-0400
RDATE:20230312T020000
RDATE:20240310T020000
END:DAYLIGHT
END:VTIMEZONE
BEGIN:VEVENT
UID:2664ec9d-95ee-4cea-86a7-bad5b0eefa37
DTSTAMP:20260424T073525Z
DESCRIPTION:On 12/4 we held our 2nd Annual Holiday Festival Featuring Winte
 r Sleigh Rides at Webb State Park. This family event was held from 11:00am
  to 3:00pm at 371 River Street in North Weymouth. In addition to sleigh ri
 des through the park\, it featured live music\, pictures with Santa\, holi
 day themed arts & crafts\, refreshments\, and so much more. \n\nTickets ar
 e no longer on sale. We hope to see you next year!
DTSTART;TZID=America/New_York:20221204T110000
DTEND;TZID=America/New_York:20221204T150000
LOCATION:371 River Street\, North Weymouth\, MA 02191 US
SUMMARY:2nd Annual Holiday Festival Featuring Winter Sleigh Rides in Webb S
 tate Park
END:VEVENT
END:VCALENDAR
